
BEGIN:VCALENDAR
VERSION:2.0
PRODID:-//wp-events-plugin.com//6.4.7.3//EN
TZID:Asia/Tokyo
X-WR-TIMEZONE:Asia/Tokyo
BEGIN:VEVENT
UID:59@coco-life-100.com
DTSTART;TZID=Asia/Tokyo:20250511T140000
DTEND;TZID=Asia/Tokyo:20250511T160000
DTSTAMP:20250508T032742Z
URL:https://coco-life-100.com/events/2025-05-11%ef%bd%82/
SUMMARY:5/11㈰【変わらない伝統によりそい  イノベーショ
 ンを起こす】
DESCRIPTION:おいしくらし工房覚王山　一周年 記念イベン
 ト 【名古屋の伝統の世界を愉しむ】\n\n記念講演会\n\n
 「変わらない伝統によりそい、イノベーションを起こ
 す」\n\n名古屋を中心に全国や海外で活躍する日本舞踊
 流派・西川流は約170年の歴史を持ちます。\n\n2016年に四
 世家元を継承された西川千雅氏。\n\n西川氏は、70年以
 上続く「名古屋をどり」主宰者となり、「観光化宣言
 」として舞踊会をイベント化し、名古屋の伝統文化に
 よりそい、新しい旋風を巻き込す日本舞踊家として、
 ジャンルを越えて様々なご活動をしています。\n\n1 周
 年記念講演会は、伝統文化のグローバルな世界にてご
 活躍でいらっしゃいます、西川流四世家元 西川千雅氏
 を講師にお招きし、講演会を開催いたします。後半の
 ワークショップでは、日常の美しい所作なども学びま
 す。\n\nご縁をつないでくださいました、「有松絞り作
 家」 安保成子様には、感謝申し上げます。一周年 ギャ
 ラリー展にて、安保成子氏個展も同時開催で、5/10(土)
 ～16(金)いたします。記念講演当日は、安保成子氏もゲ
 ストでお招きしています。\n\n皆様のご参加を心よりお
 待ちしております。\n\n&nbsp\;\n\n日　時：2025年5月11日(日
 )14時～16時\n\n場　所：おいしくらし工房覚王山 ２階\n\n
 地下鉄東山線覚王山駅、池下駅徒歩６分。 駐車場ナシ\
 n\n参加費：8\,000円（税込）\n\nノンアルコールドリンク 
 ・ショコラ覚王山花壇 お菓子・お土産付\n\n定　員：10
 名（最小開催人数6名）\n\n&nbsp\;\n\n●お申し込み期日：
 ５月10日（土）10時まで\n\n●お支払方法：\n\n当フォー
 ムよりご予約後、メールにてお振込先のご連絡を差し
 上げます。期日までに お振込いただき、お申し込み完
 了といたします。\n\n複数名でのご予約の場合は、お手
 数おかけいたしますが、お一人ずつフォームの入力を
 お願いいたします。\n\n&nbsp\;\n\n●キャンセルポリシー\n
 \nご予約日 ３日前～当日キャンセルは、\n\n予約代金の
 全額キャンセル料金が発生します。\n\n何卒ご協力賜り
 ますようお願いいたします。\n\n \n\n【内　容】\n\n＊講
 座\n\n「変わらない伝統によりそい、イノベーションを
 起こす」\n\n＊ワークショップ　\n\n「日本舞踊家元に学
 ぶ 日常の所作を美しく健康的に」\n\n＊懇談会　質疑応
 答など\n\nノンアルコールドリンク ・ショコラ覚王山花
 壇 お菓子をご用意予定しています。\n\n \n\n講師：西川
 千雅氏　西川流四世家元\n\n 西川千雅（かずまさ）氏 
 プロフィール\n\n\n\n名古屋市生まれ\n\n日本舞踊家・西
 川流四世家元。家元の家に生まれ、幼稚園から高校ま
 ではインターナショナルスクール、米国ニューヨーク
 の美術大学を卒業、家業を継ぐ。昭和20年より続く「名
 古屋をどり」主催者を継承。岡崎市「グレート家康公
 葵武将隊」愛知県「あいち戦国姫隊」などの観光PR隊プ
 ロデュースや、名古屋市「やっとかめ文化祭」ディレ
 クター。 健康舞踊ＮＯＳＳを主宰するため49歳にて、
 藤田医科大学で修士取得。\n\n＊名古屋外国語大学 客員
 教授\n\n＊愛知淑徳大学　非常勤講師\n\n＊愛知芸術文化
 協会 理事\n\n＊名古屋日本舞踊協会 幹事\n\n&nbsp\;\n\n皆
 様のご参加を心よりお待ちしております。\n\n&nbsp\;\n\n
 おいしくらし工房覚王山 　連絡先：\n\noishi-kurashi8@b-star
 .jp\n\n有限会社アイシープラス 　水谷 陽子\n\nTEL：052－2
 41-2715　（土日・祝日休み）\n\n&nbsp\;
ATTACH;FMTTYPE=image/jpeg:https://coco-life-100.com/wp-content/uploads/202
 5/04/25.5.11一周年記念イベント-1.jpg
END:VEVENT
BEGIN:VTIMEZONE
TZID:Asia/Tokyo
X-LIC-LOCATION:Asia/Tokyo
BEGIN:STANDARD
DTSTART:20240511T140000
TZOFFSETFROM:+0900
TZOFFSETTO:+0900
TZNAME:JST
END:STANDARD
END:VTIMEZONE
END:VCALENDAR